BEGIN:VCALENDAR
VERSION:2.0
PRODID:-//Miami Lakes Congregational Church United Church of Christ - ECPv6.15.17.1//NONSGML v1.0//EN
CALSCALE:GREGORIAN
METHOD:PUBLISH
X-ORIGINAL-URL:https://mlucc.org
X-WR-CALDESC:Events for Miami Lakes Congregational Church United Church of Christ
REFRESH-INTERVAL;VALUE=DURATION:PT1H
X-Robots-Tag:noindex
X-PUBLISHED-TTL:PT1H
BEGIN:VTIMEZONE
TZID:UTC
BEGIN:STANDARD
TZOFFSETFROM:+0000
TZOFFSETTO:+0000
TZNAME:UTC
DTSTART:20260101T000000
END:STANDARD
END:VTIMEZONE
BEGIN:VEVENT
DTSTART;TZID=UTC:20271003T103000
DTEND;TZID=UTC:20271003T113000
DTSTAMP:20260419T155640
CREATED:20211129T220005Z
LAST-MODIFIED:20211129T220005Z
UID:921-1822559400-1822563000@mlucc.org
SUMMARY:Sunday Worship
DESCRIPTION:Join us for worship every Sunday starting at 10:30 am.
URL:https://mlucc.org/event/sunday-worship/2027-10-03/
LOCATION:MLUCC\, 6701 Miami Lakeway South\, Miami Lakes\, FL\, 33014\, United States
CATEGORIES:Worship
ATTACH;FMTTYPE=image/jpeg:https://mlucc.org/wp-content/uploads/2021/11/3.jpg
END:VEVENT
BEGIN:VEVENT
DTSTART;TZID=UTC:20271010T103000
DTEND;TZID=UTC:20271010T113000
DTSTAMP:20260419T155640
CREATED:20211129T220005Z
LAST-MODIFIED:20211129T220005Z
UID:923-1823164200-1823167800@mlucc.org
SUMMARY:Sunday Worship
DESCRIPTION:Join us for worship every Sunday starting at 10:30 am.
URL:https://mlucc.org/event/sunday-worship/2027-10-10/
LOCATION:MLUCC\, 6701 Miami Lakeway South\, Miami Lakes\, FL\, 33014\, United States
CATEGORIES:Worship
ATTACH;FMTTYPE=image/jpeg:https://mlucc.org/wp-content/uploads/2021/11/3.jpg
END:VEVENT
BEGIN:VEVENT
DTSTART;TZID=UTC:20271017T103000
DTEND;TZID=UTC:20271017T113000
DTSTAMP:20260419T155640
CREATED:20211129T220005Z
LAST-MODIFIED:20211129T220005Z
UID:924-1823769000-1823772600@mlucc.org
SUMMARY:Sunday Worship
DESCRIPTION:Join us for worship every Sunday starting at 10:30 am.
URL:https://mlucc.org/event/sunday-worship/2027-10-17/
LOCATION:MLUCC\, 6701 Miami Lakeway South\, Miami Lakes\, FL\, 33014\, United States
CATEGORIES:Worship
ATTACH;FMTTYPE=image/jpeg:https://mlucc.org/wp-content/uploads/2021/11/3.jpg
END:VEVENT
BEGIN:VEVENT
DTSTART;TZID=UTC:20271024T103000
DTEND;TZID=UTC:20271024T113000
DTSTAMP:20260419T155640
CREATED:20211129T220005Z
LAST-MODIFIED:20211129T220005Z
UID:925-1824373800-1824377400@mlucc.org
SUMMARY:Sunday Worship
DESCRIPTION:Join us for worship every Sunday starting at 10:30 am.
URL:https://mlucc.org/event/sunday-worship/2027-10-24/
LOCATION:MLUCC\, 6701 Miami Lakeway South\, Miami Lakes\, FL\, 33014\, United States
CATEGORIES:Worship
ATTACH;FMTTYPE=image/jpeg:https://mlucc.org/wp-content/uploads/2021/11/3.jpg
END:VEVENT
BEGIN:VEVENT
DTSTART;TZID=UTC:20271031T103000
DTEND;TZID=UTC:20271031T113000
DTSTAMP:20260419T155640
CREATED:20211129T220005Z
LAST-MODIFIED:20211129T220005Z
UID:926-1824978600-1824982200@mlucc.org
SUMMARY:Sunday Worship
DESCRIPTION:Join us for worship every Sunday starting at 10:30 am.
URL:https://mlucc.org/event/sunday-worship/2027-10-31/
LOCATION:MLUCC\, 6701 Miami Lakeway South\, Miami Lakes\, FL\, 33014\, United States
CATEGORIES:Worship
ATTACH;FMTTYPE=image/jpeg:https://mlucc.org/wp-content/uploads/2021/11/3.jpg
END:VEVENT
END:VCALENDAR