BEGIN:VCALENDAR
VERSION:2.0
PRODID:-//Miami Lakes Congregational Church United Church of Christ - ECPv6.15.17.1//NONSGML v1.0//EN
CALSCALE:GREGORIAN
METHOD:PUBLISH
X-WR-CALNAME:Miami Lakes Congregational Church United Church of Christ
X-ORIGINAL-URL:https://mlucc.org
X-WR-CALDESC:Events for Miami Lakes Congregational Church United Church of Christ
REFRESH-INTERVAL;VALUE=DURATION:PT1H
X-Robots-Tag:noindex
X-PUBLISHED-TTL:PT1H
BEGIN:VTIMEZONE
TZID:UTC
BEGIN:STANDARD
TZOFFSETFROM:+0000
TZOFFSETTO:+0000
TZNAME:UTC
DTSTART:20260101T000000
END:STANDARD
END:VTIMEZONE
BEGIN:VEVENT
DTSTART;TZID=UTC:20270801T103000
DTEND;TZID=UTC:20270801T113000
DTSTAMP:20260419T125451
CREATED:20211129T220005Z
LAST-MODIFIED:20211129T220005Z
UID:910-1817116200-1817119800@mlucc.org
SUMMARY:Sunday Worship
DESCRIPTION:Join us for worship every Sunday starting at 10:30 am.
URL:https://mlucc.org/event/sunday-worship/2027-08-01/
LOCATION:MLUCC\, 6701 Miami Lakeway South\, Miami Lakes\, FL\, 33014\, United States
CATEGORIES:Worship
ATTACH;FMTTYPE=image/jpeg:https://mlucc.org/wp-content/uploads/2021/11/3.jpg
END:VEVENT
BEGIN:VEVENT
DTSTART;TZID=UTC:20270808T103000
DTEND;TZID=UTC:20270808T113000
DTSTAMP:20260419T125451
CREATED:20211129T220005Z
LAST-MODIFIED:20211129T220005Z
UID:912-1817721000-1817724600@mlucc.org
SUMMARY:Sunday Worship
DESCRIPTION:Join us for worship every Sunday starting at 10:30 am.
URL:https://mlucc.org/event/sunday-worship/2027-08-08/
LOCATION:MLUCC\, 6701 Miami Lakeway South\, Miami Lakes\, FL\, 33014\, United States
CATEGORIES:Worship
ATTACH;FMTTYPE=image/jpeg:https://mlucc.org/wp-content/uploads/2021/11/3.jpg
END:VEVENT
BEGIN:VEVENT
DTSTART;TZID=UTC:20270815T103000
DTEND;TZID=UTC:20270815T113000
DTSTAMP:20260419T125451
CREATED:20211129T220005Z
LAST-MODIFIED:20211129T220005Z
UID:913-1818325800-1818329400@mlucc.org
SUMMARY:Sunday Worship
DESCRIPTION:Join us for worship every Sunday starting at 10:30 am.
URL:https://mlucc.org/event/sunday-worship/2027-08-15/
LOCATION:MLUCC\, 6701 Miami Lakeway South\, Miami Lakes\, FL\, 33014\, United States
CATEGORIES:Worship
ATTACH;FMTTYPE=image/jpeg:https://mlucc.org/wp-content/uploads/2021/11/3.jpg
END:VEVENT
BEGIN:VEVENT
DTSTART;TZID=UTC:20270822T103000
DTEND;TZID=UTC:20270822T113000
DTSTAMP:20260419T125451
CREATED:20211129T220005Z
LAST-MODIFIED:20211129T220005Z
UID:914-1818930600-1818934200@mlucc.org
SUMMARY:Sunday Worship
DESCRIPTION:Join us for worship every Sunday starting at 10:30 am.
URL:https://mlucc.org/event/sunday-worship/2027-08-22/
LOCATION:MLUCC\, 6701 Miami Lakeway South\, Miami Lakes\, FL\, 33014\, United States
CATEGORIES:Worship
ATTACH;FMTTYPE=image/jpeg:https://mlucc.org/wp-content/uploads/2021/11/3.jpg
END:VEVENT
BEGIN:VEVENT
DTSTART;TZID=UTC:20270829T103000
DTEND;TZID=UTC:20270829T113000
DTSTAMP:20260419T125451
CREATED:20211129T220005Z
LAST-MODIFIED:20211129T220005Z
UID:915-1819535400-1819539000@mlucc.org
SUMMARY:Sunday Worship
DESCRIPTION:Join us for worship every Sunday starting at 10:30 am.
URL:https://mlucc.org/event/sunday-worship/2027-08-29/
LOCATION:MLUCC\, 6701 Miami Lakeway South\, Miami Lakes\, FL\, 33014\, United States
CATEGORIES:Worship
ATTACH;FMTTYPE=image/jpeg:https://mlucc.org/wp-content/uploads/2021/11/3.jpg
END:VEVENT
END:VCALENDAR